BEGIN:VCALENDAR
VERSION:2.0
PRODID:-//eventon.com NONSGML v1.0//EN
CALSCALE:GREGORIAN
METHOD:PUBLISH
BEGIN:VEVENT
UID:69e8225edd61e
DTSTAMP:20260422T012030Z
DTSTART:20240606T230000Z
DTEND:20240607T000000Z
LOCATION:
SUMMARY:Thursday - Hour of Solution -Zoom #782 631 7574 Code: 1234
DESCRIPTION:Thursday | Hour of Solution | 7:00 pm – 8:00 pm\nhttps://c
 ogmd.org/events/thursday-hour-of-solution/
URL:https://cogmd.org/events/thursday-hour-of-solution/
END:VEVENT
END:VCALENDAR